BEGIN:VCALENDAR
VERSION:2.0
PRODID:-//LTE Online - ECPv6.8.3//NONSGML v1.0//EN
CALSCALE:GREGORIAN
METHOD:PUBLISH
X-WR-CALNAME:LTE Online
X-ORIGINAL-URL:https://blogs.tees.ac.uk/lteonline
X-WR-CALDESC:Events for LTE Online
REFRESH-INTERVAL;VALUE=DURATION:PT1H
X-Robots-Tag:noindex
X-PUBLISHED-TTL:PT1H
BEGIN:VTIMEZONE
TZID:Europe/London
BEGIN:DAYLIGHT
TZOFFSETFROM:+0000
TZOFFSETTO:+0100
TZNAME:BST
DTSTART:20230326T010000
END:DAYLIGHT
BEGIN:STANDARD
TZOFFSETFROM:+0100
TZOFFSETTO:+0000
TZNAME:GMT
DTSTART:20231029T010000
END:STANDARD
END:VTIMEZONE
BEGIN:VEVENT
DTSTART;TZID=Europe/London:20231025T140000
DTEND;TZID=Europe/London:20231025T150000
DTSTAMP:20260420T172919
CREATED:20230810T105840Z
LAST-MODIFIED:20230817T134336Z
UID:14306-1698242400-1698246000@blogs.tees.ac.uk
SUMMARY:Using Learner Analytics impactfully for student support via StREAM
DESCRIPTION:StREAM is the University’s learner analytics platform. The use of learner analytics is designed to support our students in maximising their chances of success and realising their potential. \nSLAR will be hosting a series of monthly institution-wide sessions on StREAM aimed at teaching staff to help you understand the platform and the affordances of learner analytics for timely student support \nTo book a place please click here \n 
URL:https://blogs.tees.ac.uk/lteonline/event/using-learner-analytics-impactfully-for-student-support-via-stream-14/
LOCATION:M3.03
CATEGORIES:Booking Information
ATTACH;FMTTYPE=image/png:https://blogs.tees.ac.uk/lteonline/files/2021/02/LTESLAR-social-noresize.png
END:VEVENT
BEGIN:VEVENT
DTSTART;TZID=Europe/London:20230929T140000
DTEND;TZID=Europe/London:20230929T150000
DTSTAMP:20260420T172919
CREATED:20230810T105231Z
LAST-MODIFIED:20230914T103101Z
UID:14304-1695996000-1695999600@blogs.tees.ac.uk
SUMMARY:Using Learner Analytics impactfully for student support via StREAM - Personal Tutors/Academic Staff
DESCRIPTION:Please note this session is for Personal Tutors and Academic Staff only.  \nStREAM is the University’s learner analytics platform. The use of learner analytics is designed to support our students in maximising their chances of success and realising their potential. \nSLAR will be hosting a series of monthly institution-wide sessions on StREAM aimed at teaching staff to help you understand the platform and the affordances of learner analytics for timely student support \nTo book a place on this session please click here 
URL:https://blogs.tees.ac.uk/lteonline/event/using-learner-analytics-impactfully-for-student-support-via-stream-13/
LOCATION:M4.02
CATEGORIES:Booking Information
ATTACH;FMTTYPE=image/png:https://blogs.tees.ac.uk/lteonline/files/2021/02/LTESLAR-social-noresize.png
END:VEVENT
BEGIN:VEVENT
DTSTART;TZID=Europe/London:20230927T150000
DTEND;TZID=Europe/London:20230927T160000
DTSTAMP:20260420T172919
CREATED:20230817T142001Z
LAST-MODIFIED:20230822T102527Z
UID:14348-1695826800-1695830400@blogs.tees.ac.uk
SUMMARY:Using Learner Analytics impactfully for student support via StREAM - School Administration/Support staff
DESCRIPTION:Please note this session is for School administration and support staff.  \nStREAM is the University’s learner analytics platform. The use of learner analytics is designed to support our students in maximising their chances of success and realising their potential. \nSLAR will be hosting a series of monthly institution-wide sessions on StREAM aimed at School administration and support staff to help you understand the platform and the affordances of learner analytics for timely student support. \nTo book a place on this session please click here. 
URL:https://blogs.tees.ac.uk/lteonline/event/using-learner-analytics-impactfully-for-student-support-via-stream-school-administration-support-staff-8/
LOCATION:M3.03
CATEGORIES:Booking Information
ATTACH;FMTTYPE=image/png:https://blogs.tees.ac.uk/lteonline/files/2021/02/LTESLAR-social-noresize.png
END:VEVENT
BEGIN:VEVENT
DTSTART;TZID=Europe/London:20230927T140000
DTEND;TZID=Europe/London:20230927T150000
DTSTAMP:20260420T172919
CREATED:20230810T104814Z
LAST-MODIFIED:20230817T134550Z
UID:14301-1695823200-1695826800@blogs.tees.ac.uk
SUMMARY:Using Learner Analytics impactfully for student support via StREAM - Personal Tutors/Academic Staff
DESCRIPTION:Please note this session is for Personal Tutors and Academic Staff only.  \nStREAM is the University’s learner analytics platform. The use of learner analytics is designed to support our students in maximising their chances of success and realising their potential. \nSLAR will be hosting a series of monthly institution-wide sessions on StREAM aimed at teaching staff to help you understand the platform and the affordances of learner analytics for timely student support. \nTo book a place on this session please click here.
URL:https://blogs.tees.ac.uk/lteonline/event/using-learner-analytics-impactfully-for-student-support-via-stream-12/
LOCATION:M4.21
CATEGORIES:Booking Information
ATTACH;FMTTYPE=image/png:https://blogs.tees.ac.uk/lteonline/files/2021/02/LTESLAR-social-noresize.png
END:VEVENT
BEGIN:VEVENT
DTSTART;TZID=Europe/London:20230925T150000
DTEND;TZID=Europe/London:20230925T160000
DTSTAMP:20260420T172919
CREATED:20230817T141820Z
LAST-MODIFIED:20230817T141820Z
UID:14346-1695654000-1695657600@blogs.tees.ac.uk
SUMMARY:Using Learner Analytics impactfully for student support via StREAM - School Administration/Support staff
DESCRIPTION:Please note this session is for School administration and support staff.  \nStREAM is the University’s learner analytics platform. The use of learner analytics is designed to support our students in maximising their chances of success and realising their potential. \nSLAR will be hosting a series of monthly institution-wide sessions on StREAM aimed at School administration and support staff to help you understand the platform and the affordances of learner analytics for timely student support. \nTo book a place on this session please click here. 
URL:https://blogs.tees.ac.uk/lteonline/event/using-learner-analytics-impactfully-for-student-support-via-stream-school-administration-support-staff-7/
LOCATION:TBC
CATEGORIES:Booking Information
ATTACH;FMTTYPE=image/png:https://blogs.tees.ac.uk/lteonline/files/2021/02/LTESLAR-social-noresize.png
END:VEVENT
BEGIN:VEVENT
DTSTART;TZID=Europe/London:20230925T140000
DTEND;TZID=Europe/London:20230925T150000
DTSTAMP:20260420T172919
CREATED:20230810T104334Z
LAST-MODIFIED:20230914T102811Z
UID:14299-1695650400-1695654000@blogs.tees.ac.uk
SUMMARY:Using Learner Analytics impactfully for student support via StREAM - Personal Tutors/Academic Staff
DESCRIPTION:Please note this session is for Personal Tutors and Academic Staff only.  \nStREAM is the University’s learner analytics platform. The use of learner analytics is designed to support our students in maximising their chances of success and realising their potential. \nSLAR will be hosting a series of monthly institution-wide sessions on StREAM aimed at teaching staff to help you understand the platform and the affordances of learner analytics for timely student support. \nTo book a place on this session please click here
URL:https://blogs.tees.ac.uk/lteonline/event/using-learner-analytics-impactfully-for-student-support-via-stream-11/
LOCATION:M3.03
CATEGORIES:Booking Information
ATTACH;FMTTYPE=image/png:https://blogs.tees.ac.uk/lteonline/files/2021/02/LTESLAR-social-noresize.png
END:VEVENT
BEGIN:VEVENT
DTSTART;TZID=Europe/London:20230922T150000
DTEND;TZID=Europe/London:20230922T160000
DTSTAMP:20260420T172919
CREATED:20230817T141703Z
LAST-MODIFIED:20230817T141703Z
UID:14344-1695394800-1695398400@blogs.tees.ac.uk
SUMMARY:Using Learner Analytics impactfully for student support via StREAM - School Administration/Support staff
DESCRIPTION:Please note this session is for School administration and support staff.  \nStREAM is the University’s learner analytics platform. The use of learner analytics is designed to support our students in maximising their chances of success and realising their potential. \nSLAR will be hosting a series of monthly institution-wide sessions on StREAM aimed at School administration and support staff to help you understand the platform and the affordances of learner analytics for timely student support. \nTo book a place on this session please click here. 
URL:https://blogs.tees.ac.uk/lteonline/event/using-learner-analytics-impactfully-for-student-support-via-stream-school-administration-support-staff-6/
LOCATION:TBC
CATEGORIES:Booking Information
ATTACH;FMTTYPE=image/png:https://blogs.tees.ac.uk/lteonline/files/2021/02/LTESLAR-social-noresize.png
END:VEVENT
BEGIN:VEVENT
DTSTART;TZID=Europe/London:20230922T140000
DTEND;TZID=Europe/London:20230922T150000
DTSTAMP:20260420T172919
CREATED:20230810T103747Z
LAST-MODIFIED:20230914T102410Z
UID:14297-1695391200-1695394800@blogs.tees.ac.uk
SUMMARY:Using Learner Analytics impactfully for student support via StREAM - Personal Tutors/Academic Staff
DESCRIPTION:Please note this session is for Personal Tutors and Academic Staff only.  \nStREAM is the University’s learner analytics platform. The use of learner analytics is designed to support our students in maximising their chances of success and realising their potential. \nSLAR will be hosting a series of monthly institution-wide sessions on StREAM aimed at teaching staff to help you understand the platform and the affordances of learner analytics for timely student support. \nTo book a place on this session please click here \n 
URL:https://blogs.tees.ac.uk/lteonline/event/using-learner-analytics-impactfully-for-student-support-via-stream-10/
LOCATION:M4.01\, Middlesbrough Tower\, Teesside University
CATEGORIES:Booking Information
ATTACH;FMTTYPE=image/png:https://blogs.tees.ac.uk/lteonline/files/2021/02/LTESLAR-social-noresize.png
END:VEVENT
BEGIN:VEVENT
DTSTART;TZID=Europe/London:20230920T150000
DTEND;TZID=Europe/London:20230920T160000
DTSTAMP:20260420T172919
CREATED:20230817T141448Z
LAST-MODIFIED:20230822T102416Z
UID:14342-1695222000-1695225600@blogs.tees.ac.uk
SUMMARY:Using Learner Analytics impactfully for student support via StREAM - School Administration/Support staff
DESCRIPTION:Please note this session is for School administration and support staff.  \nStREAM is the University’s learner analytics platform. The use of learner analytics is designed to support our students in maximising their chances of success and realising their potential. \nSLAR will be hosting a series of monthly institution-wide sessions on StREAM aimed at School administration and support staff to help you understand the platform and the affordances of learner analytics for timely student support. \nTo book a place on this session please click here. 
URL:https://blogs.tees.ac.uk/lteonline/event/using-learner-analytics-impactfully-for-student-support-via-stream-school-administration-support-staff-5/
LOCATION:M3.03
CATEGORIES:Booking Information
ATTACH;FMTTYPE=image/png:https://blogs.tees.ac.uk/lteonline/files/2021/02/LTESLAR-social-noresize.png
END:VEVENT
BEGIN:VEVENT
DTSTART;TZID=Europe/London:20230920T140000
DTEND;TZID=Europe/London:20230920T150000
DTSTAMP:20260420T172919
CREATED:20230810T103204Z
LAST-MODIFIED:20230817T134843Z
UID:14295-1695218400-1695222000@blogs.tees.ac.uk
SUMMARY:Using Learner Analytics impactfully for student support via StREAM - Personal Tutors/Academic Staff
DESCRIPTION:Please note this session is for Personal Tutors and Academic Staff only.  \nStREAM is the University’s learner analytics platform. The use of learner analytics is designed to support our students in maximising their chances of success and realising their potential. \nSLAR will be hosting a series of monthly institution-wide sessions on StREAM aimed at teaching staff to help you understand the platform and the affordances of learner analytics for timely student support. \nTo book a place on this session please click here \n 
URL:https://blogs.tees.ac.uk/lteonline/event/using-learner-analytics-impactfully-for-student-support-via-stream-9/
LOCATION:M3.03
CATEGORIES:Booking Information
ATTACH;FMTTYPE=image/png:https://blogs.tees.ac.uk/lteonline/files/2021/02/LTESLAR-social-noresize.png
END:VEVENT
BEGIN:VEVENT
DTSTART;TZID=Europe/London:20230915T150000
DTEND;TZID=Europe/London:20230915T160000
DTSTAMP:20260420T172919
CREATED:20230817T141257Z
LAST-MODIFIED:20230822T102326Z
UID:14340-1694790000-1694793600@blogs.tees.ac.uk
SUMMARY:Using Learner Analytics impactfully for student support via StREAM - School Administration/Support staff
DESCRIPTION:Please note this session is for School administration and support staff.  \nStREAM is the University’s learner analytics platform. The use of learner analytics is designed to support our students in maximising their chances of success and realising their potential. \nSLAR will be hosting a series of monthly institution-wide sessions on StREAM aimed at School administration and support staff to help you understand the platform and the affordances of learner analytics for timely student support. \nTo book a place on this session please click here. 
URL:https://blogs.tees.ac.uk/lteonline/event/using-learner-analytics-impactfully-for-student-support-via-stream-school-administration-support-staff-4/
LOCATION:M3.03
CATEGORIES:Booking Information
ATTACH;FMTTYPE=image/png:https://blogs.tees.ac.uk/lteonline/files/2021/02/LTESLAR-social-noresize.png
END:VEVENT
BEGIN:VEVENT
DTSTART;TZID=Europe/London:20230915T140000
DTEND;TZID=Europe/London:20230915T150000
DTSTAMP:20260420T172919
CREATED:20230810T094517Z
LAST-MODIFIED:20230817T134928Z
UID:14289-1694786400-1694790000@blogs.tees.ac.uk
SUMMARY:Using Learner Analytics impactfully for student support via StREAM - Personal Tutors/Academic Staff
DESCRIPTION:Please note this session is for Personal Tutors and Academic Staff only.  \nStREAM is the University’s learner analytics platform. The use of learner analytics is designed to support our students in maximising their chances of success and realising their potential. \nSLAR will be hosting a series of monthly institution-wide sessions on StREAM aimed at teaching staff to help you understand the platform and the affordances of learner analytics for timely student support. \nTo book a place on this session please click here. 
URL:https://blogs.tees.ac.uk/lteonline/event/using-learner-analytics-impactfully-for-student-support-via-stream-7/
LOCATION:M3.03
CATEGORIES:Booking Information
ATTACH;FMTTYPE=image/png:https://blogs.tees.ac.uk/lteonline/files/2021/02/LTESLAR-social-noresize.png
END:VEVENT
BEGIN:VEVENT
DTSTART;TZID=Europe/London:20230913T150000
DTEND;TZID=Europe/London:20230913T160000
DTSTAMP:20260420T172919
CREATED:20230817T135556Z
LAST-MODIFIED:20230822T102244Z
UID:14336-1694617200-1694620800@blogs.tees.ac.uk
SUMMARY:Using Learner Analytics impactfully for student support via StREAM - School Administration/Support staff
DESCRIPTION:Please note this session is for School administration and support staff.  \nStREAM is the University’s learner analytics platform. The use of learner analytics is designed to support our students in maximising their chances of success and realising their potential. \nSLAR will be hosting a series of monthly institution-wide sessions on StREAM aimed at School administration and support staff to help you understand the platform and the affordances of learner analytics for timely student support. \nTo book a place on this session please click here. 
URL:https://blogs.tees.ac.uk/lteonline/event/using-learner-analytics-impactfully-for-student-support-via-stream-school-administration-support-staff-2/
LOCATION:M3.03
CATEGORIES:Booking Information
ATTACH;FMTTYPE=image/png:https://blogs.tees.ac.uk/lteonline/files/2021/02/LTESLAR-social-noresize.png
END:VEVENT
BEGIN:VEVENT
DTSTART;TZID=Europe/London:20230913T140000
DTEND;TZID=Europe/London:20230913T150000
DTSTAMP:20260420T172919
CREATED:20230810T102435Z
LAST-MODIFIED:20230817T135032Z
UID:14293-1694613600-1694617200@blogs.tees.ac.uk
SUMMARY:Using Learner Analytics impactfully for student support via StREAM - Personal Tutors/Academic Staff
DESCRIPTION:Please note this session is for Personal Tutors and Academic Staff only.  \nStREAM is the University’s learner analytics platform. The use of learner analytics is designed to support our students in maximising their chances of success and realising their potential. \nSLAR will be hosting a series of monthly institution-wide sessions on StREAM aimed at teaching staff to help you understand the platform and the affordances of learner analytics for timely student support. \nTo book a place on this session please click here \n 
URL:https://blogs.tees.ac.uk/lteonline/event/using-learner-analytics-impactfully-for-student-support-via-stream-8/
LOCATION:M3.03
CATEGORIES:Booking Information
ATTACH;FMTTYPE=image/png:https://blogs.tees.ac.uk/lteonline/files/2021/02/LTESLAR-social-noresize.png
END:VEVENT
BEGIN:VEVENT
DTSTART;TZID=Europe/London:20230911T150000
DTEND;TZID=Europe/London:20230911T160000
DTSTAMP:20260420T172919
CREATED:20230817T135418Z
LAST-MODIFIED:20230822T102206Z
UID:14333-1694444400-1694448000@blogs.tees.ac.uk
SUMMARY:Using Learner Analytics impactfully for student support via StREAM - School Administration/Support staff
DESCRIPTION:Please note this session is for School administration and support staff.  \nStREAM is the University’s learner analytics platform. The use of learner analytics is designed to support our students in maximising their chances of success and realising their potential. \nSLAR will be hosting a series of monthly institution-wide sessions on StREAM aimed at School administration and support staff to help you understand the platform and the affordances of learner analytics for timely student support. \nTo book a place on this session please click here. 
URL:https://blogs.tees.ac.uk/lteonline/event/using-learner-analytics-impactfully-for-student-support-via-stream-school-administration-support-staff/
LOCATION:M3.03
CATEGORIES:Booking Information
ATTACH;FMTTYPE=image/png:https://blogs.tees.ac.uk/lteonline/files/2021/02/LTESLAR-social-noresize.png
END:VEVENT
BEGIN:VEVENT
DTSTART;TZID=Europe/London:20230911T140000
DTEND;TZID=Europe/London:20230911T150000
DTSTAMP:20260420T172919
CREATED:20230810T094356Z
LAST-MODIFIED:20230817T135126Z
UID:14286-1694440800-1694444400@blogs.tees.ac.uk
SUMMARY:Using Learner Analytics impactfully for student support via StREAM - Personal Tutors/Academic Staff
DESCRIPTION:Please note this session is for Personal Tutors and Academic Staff only.  \nStREAM is the University’s learner analytics platform. The use of learner analytics is designed to support our students in maximising their chances of success and realising their potential. \nSLAR will be hosting a series of monthly institution-wide sessions on StREAM aimed at teaching staff to help you understand the platform and the affordances of learner analytics for timely student support. \nTo book a place on this session please click here. 
URL:https://blogs.tees.ac.uk/lteonline/event/using-learner-analytics-impactfully-for-student-support-via-stream-6/
LOCATION:M3.03
CATEGORIES:Booking Information
ATTACH;FMTTYPE=image/png:https://blogs.tees.ac.uk/lteonline/files/2021/02/LTESLAR-social-noresize.png
END:VEVENT
BEGIN:VEVENT
DTSTART;TZID=Europe/London:20230711T150000
DTEND;TZID=Europe/London:20230711T160000
DTSTAMP:20260420T172919
CREATED:20230302T142630Z
LAST-MODIFIED:20230314T134617Z
UID:13646-1689087600-1689091200@blogs.tees.ac.uk
SUMMARY:Using Learner Analytics impactfully for student support via StREAM
DESCRIPTION:StREAM is the University’s learner analytics platform. The use of learner analytics is designed to support all our students in maximising their chances of success and realising their potential. SLAR will be hosting a series of monthly institution-wide sessions on StREAM aimed at teaching staff to will help you understand the platform and the affordances of learner analytics for timely student support. We will cover: \n\nUsing Real time data – StREAM takes data from a wide range of digital touch points\, which together represents participation in academic learning.\nUnderstanding engagement Algorithm – An algorithm is applied to our data\, tailored to reflect how engagement is represented at Teesside\, which calculates an overall “engagement score” indicator for each student.\nInterpreting engagement Score – A simple measure of engagement for easy-to-understand visualisation and interpretation of data.\nReviewing holistic View – Taking the engagement information en-masse\, StREAM also provides a holistic view of how students are engaging at school and course level.\n\nIn the meantime\, user guides\, and associated materials around the Personal Tutoring Code of Practice\, Information Governance and guidance from SLS can be found here: Student Learning & Academic Registry – Learner Analytics (tees.ac.uk \nPlease note this session is face to face. \nTo book a place on this session please click here. 
URL:https://blogs.tees.ac.uk/lteonline/event/using-learner-analytics-impactfully-for-student-support-via-stream-5/
LOCATION:M3.04
CATEGORIES:Booking Information
ATTACH;FMTTYPE=image/png:https://blogs.tees.ac.uk/lteonline/files/2021/02/LTESLAR-social-noresize.png
END:VEVENT
BEGIN:VEVENT
DTSTART;TZID=Europe/London:20230621T120000
DTEND;TZID=Europe/London:20230621T130000
DTSTAMP:20260420T172919
CREATED:20230302T142452Z
LAST-MODIFIED:20230314T134504Z
UID:13644-1687348800-1687352400@blogs.tees.ac.uk
SUMMARY:Using Learner Analytics impactfully for student support via StREAM
DESCRIPTION:StREAM is the University’s learner analytics platform. The use of learner analytics is designed to support all our students in maximising their chances of success and realising their potential. SLAR will be hosting a series of monthly institution-wide sessions on StREAM aimed at teaching staff to will help you understand the platform and the affordances of learner analytics for timely student support. We will cover: \n\nUsing Real time data – StREAM takes data from a wide range of digital touch points\, which together represents participation in academic learning.\nUnderstanding engagement Algorithm – An algorithm is applied to our data\, tailored to reflect how engagement is represented at Teesside\, which calculates an overall “engagement score” indicator for each student.\nInterpreting engagement Score – A simple measure of engagement for easy-to-understand visualisation and interpretation of data.\nReviewing holistic View – Taking the engagement information en-masse\, StREAM also provides a holistic view of how students are engaging at school and course level.\n\nIn the meantime\, user guides\, and associated materials around the Personal Tutoring Code of Practice\, Information Governance and guidance from SLS can be found here: Student Learning & Academic Registry – Learner Analytics (tees.ac.uk \nPlease note this session is face to face. \nTo book a place on this session please click here. 
URL:https://blogs.tees.ac.uk/lteonline/event/using-learner-analytics-impactfully-for-student-support-via-stream-4/
LOCATION:M3.04
CATEGORIES:Booking Information
ATTACH;FMTTYPE=image/png:https://blogs.tees.ac.uk/lteonline/files/2021/02/LTESLAR-social-noresize.png
END:VEVENT
BEGIN:VEVENT
DTSTART;TZID=Europe/London:20230524T120000
DTEND;TZID=Europe/London:20230524T130000
DTSTAMP:20260420T172919
CREATED:20230302T142300Z
LAST-MODIFIED:20230314T134537Z
UID:13642-1684929600-1684933200@blogs.tees.ac.uk
SUMMARY:Using Learner Analytics impactfully for student support via StREAM
DESCRIPTION:StREAM is the University’s learner analytics platform. The use of learner analytics is designed to support all our students in maximising their chances of success and realising their potential. SLAR will be hosting a series of monthly institution-wide sessions on StREAM aimed at teaching staff to will help you understand the platform and the affordances of learner analytics for timely student support. We will cover: \nUsing Real time data – StREAM takes data from a wide range of digital touch points\, which together represents participation in academic learning.\nUnderstanding engagement Algorithm – An algorithm is applied to our data\, tailored to reflect how engagement is represented at Teesside\, which calculates an overall “engagement score” indicator for each student.\nInterpreting engagement Score – A simple measure of engagement for easy-to-understand visualisation and interpretation of data.\nReviewing holistic View – Taking the engagement information en-masse\, StREAM also provides a holistic view of how students are engaging at school and course level. \nIn the meantime\, user guides\, and associated materials around the Personal Tutoring Code of Practice\, Information Governance and guidance from SLS can be found here: Student Learning & Academic Registry – Learner Analytics (tees.ac.uk) \nPlease note this session is face to face. \nTo book a place on this session please click here. 
URL:https://blogs.tees.ac.uk/lteonline/event/using-learner-analytics-impactfully-for-student-support-via-stream-3/
LOCATION:M3.04
CATEGORIES:Booking Information
ATTACH;FMTTYPE=image/png:https://blogs.tees.ac.uk/lteonline/files/2021/02/LTESLAR-social-noresize.png
END:VEVENT
BEGIN:VEVENT
DTSTART;TZID=Europe/London:20230419T150000
DTEND;TZID=Europe/London:20230419T160000
DTSTAMP:20260420T172919
CREATED:20230302T142119Z
LAST-MODIFIED:20230314T134343Z
UID:13640-1681916400-1681920000@blogs.tees.ac.uk
SUMMARY:Using Learner Analytics impactfully for student support via StREAM
DESCRIPTION:StREAM is the University’s learner analytics platform. The use of learner analytics is designed to support all our students in maximising their chances of success and realising their potential. SLAR will be hosting a series of monthly institution-wide sessions on StREAM aimed at teaching staff to will help you understand the platform and the affordances of learner analytics for timely student support. We will cover: \n\nUsing Real time data – StREAM takes data from a wide range of digital touch points\, which together represents participation in academic learning.\nUnderstanding engagement Algorithm – An algorithm is applied to our data\, tailored to reflect how engagement is represented at Teesside\, which calculates an overall “engagement score” indicator for each student.\nInterpreting engagement Score – A simple measure of engagement for easy-to-understand visualisation and interpretation of data.\nReviewing holistic View – Taking the engagement information en-masse\, StREAM also provides a holistic view of how students are engaging at school and course level.\n\nIn the meantime\, user guides\, and associated materials around the Personal Tutoring Code of Practice\, Information Governance and guidance from SLS can be found here: Student Learning & Academic Registry – Learner Analytics (tees.ac.uk \nPlease note this session is face to face. \nTo book a place on this session please click here. 
URL:https://blogs.tees.ac.uk/lteonline/event/using-learner-analytics-impactfully-for-student-support-via-stream-2/
LOCATION:M3.04
CATEGORIES:Booking Information
ATTACH;FMTTYPE=image/png:https://blogs.tees.ac.uk/lteonline/files/2021/02/LTESLAR-social-noresize.png
END:VEVENT
BEGIN:VEVENT
DTSTART;TZID=Europe/London:20230323T150000
DTEND;TZID=Europe/London:20230323T160000
DTSTAMP:20260420T172919
CREATED:20230302T141947Z
LAST-MODIFIED:20230314T134238Z
UID:13638-1679583600-1679587200@blogs.tees.ac.uk
SUMMARY:Using Learner Analytics impactfully for student support via StREAM
DESCRIPTION:StREAM is the University’s learner analytics platform. The use of learner analytics is designed to support all our students in maximising their chances of success and realising their potential. SLAR will be hosting a series of monthly institution-wide sessions on StREAM aimed at teaching staff to will help you understand the platform and the affordances of learner analytics for timely student support. We will cover: \n\nUsing Real time data – StREAM takes data from a wide range of digital touch points\, which together represents participation in academic learning.\nUnderstanding engagement Algorithm – An algorithm is applied to our data\, tailored to reflect how engagement is represented at Teesside\, which calculates an overall “engagement score” indicator for each student.\nInterpreting engagement Score – A simple measure of engagement for easy-to-understand visualisation and interpretation of data.\nReviewing holistic View – Taking the engagement information en-masse\, StREAM also provides a holistic view of how students are engaging at school and course level.\n\nIn the meantime\, user guides\, and associated materials around the Personal Tutoring Code of Practice\, Information Governance and guidance from SLS can be found here: Student Learning & Academic Registry – Learner Analytics (tees.ac.uk \nPlease note this session is face to face. \nTo book a place on this session please click here. 
URL:https://blogs.tees.ac.uk/lteonline/event/using-learner-analytics-impactfully-for-student-support-via-stream/
LOCATION:M6.08\, Middlesbrough Tower
CATEGORIES:Booking Information
ATTACH;FMTTYPE=image/png:https://blogs.tees.ac.uk/lteonline/files/2021/02/LTESLAR-social-noresize.png
END:VEVENT
END:VCALENDAR