BEGIN:VCALENDAR
VERSION:2.0
PRODID:-//LTE Online - ECPv6.8.3//NONSGML v1.0//EN
CALSCALE:GREGORIAN
METHOD:PUBLISH
X-ORIGINAL-URL:https://blogs.tees.ac.uk/lteonline
X-WR-CALDESC:Events for LTE Online
REFRESH-INTERVAL;VALUE=DURATION:PT1H
X-Robots-Tag:noindex
X-PUBLISHED-TTL:PT1H
BEGIN:VTIMEZONE
TZID:Europe/London
BEGIN:DAYLIGHT
TZOFFSETFROM:+0000
TZOFFSETTO:+0100
TZNAME:BST
DTSTART:20230326T010000
END:DAYLIGHT
BEGIN:STANDARD
TZOFFSETFROM:+0100
TZOFFSETTO:+0000
TZNAME:GMT
DTSTART:20231029T010000
END:STANDARD
END:VTIMEZONE
BEGIN:VEVENT
DTSTART;TZID=Europe/London:20230915T093000
DTEND;TZID=Europe/London:20230915T100000
DTSTAMP:20260421T195603
CREATED:20230901T115954Z
LAST-MODIFIED:20230907T142840Z
UID:14530-1694770200-1694772000@blogs.tees.ac.uk
SUMMARY:Continuous Monitoring Enhancement Update
DESCRIPTION:The University has conducted a review of Continuous Monitoring and Enhancement. This briefing will provide an update on the processes for all staff engaged with the delivery of learning and teaching activities at the University and with partners. \nThe briefing will be delivered via Microsoft Teams and recorded then made available on the Student Learning & Academic Registry SharePoint pages. \nTo book a place on this session please click here
URL:https://blogs.tees.ac.uk/lteonline/event/continuous-monitoring-enhancement-update/
LOCATION:MS Teams
CATEGORIES:Booking Information
ATTACH;FMTTYPE=image/png:https://blogs.tees.ac.uk/lteonline/files/2021/02/LTESLAR-social-noresize.png
END:VEVENT
END:VCALENDAR