BEGIN:VCALENDAR
VERSION:2.0
PRODID:-//LTE Online - ECPv6.8.3//NONSGML v1.0//EN
CALSCALE:GREGORIAN
METHOD:PUBLISH
X-ORIGINAL-URL:https://blogs.tees.ac.uk/lteonline
X-WR-CALDESC:Events for LTE Online
REFRESH-INTERVAL;VALUE=DURATION:PT1H
X-Robots-Tag:noindex
X-PUBLISHED-TTL:PT1H
BEGIN:VTIMEZONE
TZID:Europe/London
BEGIN:DAYLIGHT
TZOFFSETFROM:+0000
TZOFFSETTO:+0100
TZNAME:BST
DTSTART:20230326T010000
END:DAYLIGHT
BEGIN:STANDARD
TZOFFSETFROM:+0100
TZOFFSETTO:+0000
TZNAME:GMT
DTSTART:20231029T010000
END:STANDARD
END:VTIMEZONE
BEGIN:VEVENT
DTSTART;TZID=Europe/London:20230901T093000
DTEND;TZID=Europe/London:20230901T103000
DTSTAMP:20260421T232450
CREATED:20230824T124819Z
LAST-MODIFIED:20230824T124819Z
UID:14420-1693560600-1693564200@blogs.tees.ac.uk
SUMMARY:Academic Transformation Programme for Online Learning
DESCRIPTION:The Online Learning Designers contribute towards positioning Teesside University as a sector-leading catalyst for innovation and change\, preparing the institutional terrain for the high impact adoption of Online Learning. For all online learning courses\, the Academic Transformation Programme is an integral part of preparing for the course approvals process and the journey from course approvals to course launch\, within which we will deliver support on the following areas of learning designs: \nCPD ‘refresher to online learning’ is available as a refresher for tutors already on the OL journey and an introduction for tutors who are onboarding the OL journey. \nSyllabus: \n\nWhat is online learning\nHow is it different from campus or blended modes of study\nPerceived barriers and what we have done with our designs to address these\nGold standard design principles\nGold standard student support and experience\nNavigating the TU Online platform\nHow to engage in discussions\nCreative ways of facilitating learning\nRole of course tutor in induction pack(s)\nRole of personal tutor and aid of progress bar\n\nTo book a place please click here. 
URL:https://blogs.tees.ac.uk/lteonline/event/academic-transformation-programme-for-online-learning/
LOCATION:MS Teams
CATEGORIES:Booking Information
ATTACH;FMTTYPE=image/png:https://blogs.tees.ac.uk/lteonline/files/2021/02/LTESLAR-social-noresize.png
END:VEVENT
BEGIN:VEVENT
DTSTART;TZID=Europe/London:20230901T104500
DTEND;TZID=Europe/London:20230901T111500
DTSTAMP:20260421T232450
CREATED:20230824T125753Z
LAST-MODIFIED:20230824T130021Z
UID:14428-1693565100-1693566900@blogs.tees.ac.uk
SUMMARY:Head of Dept Training for Online Learning
DESCRIPTION:For Head’s of Departments only. \nA comprehensive training around the OL roadmap\, process for module content design and creation\, process for course development and impact on resources across schools\, offering an in-depth understanding of managing an OL project from a school’s perspective. \nTo book a place on this session please click here. 
URL:https://blogs.tees.ac.uk/lteonline/event/head-of-dept-training-for-online-learning/
LOCATION:MS Teams
CATEGORIES:Booking Information
ATTACH;FMTTYPE=image/png:https://blogs.tees.ac.uk/lteonline/files/2021/02/LTESLAR-social-noresize.png
END:VEVENT
END:VCALENDAR