BEGIN:VCALENDAR
VERSION:2.0
PRODID:-//LTE Online - ECPv6.8.3//NONSGML v1.0//EN
CALSCALE:GREGORIAN
METHOD:PUBLISH
X-ORIGINAL-URL:https://blogs.tees.ac.uk/lteonline
X-WR-CALDESC:Events for LTE Online
REFRESH-INTERVAL;VALUE=DURATION:PT1H
X-Robots-Tag:noindex
X-PUBLISHED-TTL:PT1H
BEGIN:VTIMEZONE
TZID:Europe/London
BEGIN:DAYLIGHT
TZOFFSETFROM:+0000
TZOFFSETTO:+0100
TZNAME:BST
DTSTART:20230326T010000
END:DAYLIGHT
BEGIN:STANDARD
TZOFFSETFROM:+0100
TZOFFSETTO:+0000
TZNAME:GMT
DTSTART:20231029T010000
END:STANDARD
END:VTIMEZONE
BEGIN:VEVENT
DTSTART;TZID=Europe/London:20230803T130000
DTEND;TZID=Europe/London:20230803T150000
DTSTAMP:20260421T195410
CREATED:20230609T125257Z
LAST-MODIFIED:20230726T140640Z
UID:14051-1691067600-1691074800@blogs.tees.ac.uk
SUMMARY:The TU Link Tutor Journey
DESCRIPTION:As a current Link Tutor at Teesside University you are invited to attend this CPD session to support you in this activity.  Please note this session will take place Face to Face. \nThe session will look at the following: \nTheme 1 \n\nUsing the new LT Guidance document/task descriptor to go through responsibilities of a Link Tutor.\nLooking at effective means of communication\, relationship building\, and risk management. Thinking about a Partners identity within TU.\n\nTheme 2 \n\nInformation and knowledge gathering as a Link Tutor.\nOverview of TU processes (linked to SLAR) and resources to support this.\nDiscussion points and short inputs from SLAR staff around supporting Approval and Review activity\, BB Ultra and Learning Systems\, Assessment Regulations and Student Voice.\nLooking at processes to support the Partnership experience such as registration/enrolment processes.\n\nTheme 3 \n\nDelivering excellence as a Link Tutor and the importance of this.\nCross School support and guidance via The Link Tutor Network\, Link Tutor quarterly meetings to discuss good practice and share ideas/common threads/resolving issues.\nBuilding a community of practice amongst Link Tutors @ TU.\nSchools to look at developing case studies to support good examples of QEV’s\, shared working in research activity\, effective communication\, cross development of courses.\n\nTo book your place please click here. 
URL:https://blogs.tees.ac.uk/lteonline/event/the-tu-link-tutor-journey-5/
LOCATION:Room TG.06\, The Curve\, Teesside University\, Middlesbrough Campus
CATEGORIES:Booking Information
ATTACH;FMTTYPE=image/png:https://blogs.tees.ac.uk/lteonline/files/2021/02/LTESLAR-social-noresize.png
END:VEVENT
BEGIN:VEVENT
DTSTART;TZID=Europe/London:20230808T140000
DTEND;TZID=Europe/London:20230808T160000
DTSTAMP:20260421T195410
CREATED:20230609T125631Z
LAST-MODIFIED:20230731T140220Z
UID:14055-1691503200-1691510400@blogs.tees.ac.uk
SUMMARY:The TU Link Tutor Journey
DESCRIPTION:As a current Link Tutor at Teesside University you are invited to attend this CPD session to support you in this activity.  Please note this session will take place online. \nThe session will look at the following: \nTheme 1 \n\nUsing the new LT Guidance document/task descriptor to go through responsibilities of a Link Tutor.\nLooking at effective means of communication\, relationship building\, and risk management. Thinking about a Partners identity within TU.\n\nTheme 2 \n\nInformation and knowledge gathering as a Link Tutor.\nOverview of TU processes (linked to SLAR) and resources to support this.\nDiscussion points and short inputs from SLAR staff around supporting Approval and Review activity\, BB Ultra and Learning Systems\, Assessment Regulations and Student Voice.\nLooking at processes to support the Partnership experience such as registration/enrolment processes.\n\nTheme 3 \n\nDelivering excellence as a Link Tutor and the importance of this.\nCross School support and guidance via The Link Tutor Network\, Link Tutor quarterly meetings to discuss good practice and share ideas/common threads/resolving issues.\nBuilding a community of practice amongst Link Tutors @ TU.\nSchools to look at developing case studies to support good examples of QEV’s\, shared working in research activity\, effective communication\, cross development of courses.\n\nTo book your place please click here. 
URL:https://blogs.tees.ac.uk/lteonline/event/the-tu-link-tutor-journey-7/
LOCATION:MS Teams
CATEGORIES:Booking Information
ATTACH;FMTTYPE=image/png:https://blogs.tees.ac.uk/lteonline/files/2021/02/LTESLAR-social-noresize.png
END:VEVENT
BEGIN:VEVENT
DTSTART;TZID=Europe/London:20230822T130000
DTEND;TZID=Europe/London:20230822T150000
DTSTAMP:20260421T195410
CREATED:20230609T133553Z
LAST-MODIFIED:20230818T075442Z
UID:14061-1692709200-1692716400@blogs.tees.ac.uk
SUMMARY:The TU Link Tutor Journey
DESCRIPTION:As a current Link Tutor at Teesside University you are invited to attend this CPD session to support you in this activity.  Please note this session will run face to face. \nThe session will look at the following: \nTheme 1 \n\nUsing the new LT Guidance document/task descriptor to go through responsibilities of a Link Tutor.\nLooking at effective means of communication\, relationship building\, and risk management. Thinking about a Partners identity within TU.\n\nTheme 2 \n\nInformation and knowledge gathering as a Link Tutor.\nOverview of TU processes (linked to SLAR) and resources to support this.\nDiscussion points and short inputs from SLAR staff around supporting Approval and Review activity\, BB Ultra and Learning Systems\, Assessment Regulations and Student Voice.\nLooking at processes to support the Partnership experience such as registration/enrolment processes.\n\nTheme 3 \n\nDelivering excellence as a Link Tutor and the importance of this.\nCross School support and guidance via The Link Tutor Network\, Link Tutor quarterly meetings to discuss good practice and share ideas/common threads/resolving issues.\nBuilding a community of practice amongst Link Tutors @ TU.\nSchools to look at developing case studies to support good examples of QEV’s\, shared working in research activity\, effective communication\, cross development of courses.\n\nTo book your place please click here. 
URL:https://blogs.tees.ac.uk/lteonline/event/the-tu-link-tutor-journey-10/
LOCATION:Room TG.06\, The Curve\, Teesside University\, Middlesbrough Campus
CATEGORIES:Booking Information
ATTACH;FMTTYPE=image/png:https://blogs.tees.ac.uk/lteonline/files/2021/02/LTESLAR-social-noresize.png
END:VEVENT
BEGIN:VEVENT
DTSTART;TZID=Europe/London:20230824T100000
DTEND;TZID=Europe/London:20230824T120000
DTSTAMP:20260421T195410
CREATED:20230609T133747Z
LAST-MODIFIED:20230726T141323Z
UID:14063-1692871200-1692878400@blogs.tees.ac.uk
SUMMARY:The TU Link Tutor Journey
DESCRIPTION:As a current Link Tutor at Teesside University you are invited to attend this CPD session to support you in this activity.  Please note this session will take place online. \nThe session will look at the following: \nTheme 1 \n\nUsing the new LT Guidance document/task descriptor to go through responsibilities of a Link Tutor.\nLooking at effective means of communication\, relationship building\, and risk management. Thinking about a Partners identity within TU.\n\nTheme 2 \n\nInformation and knowledge gathering as a Link Tutor.\nOverview of TU processes (linked to SLAR) and resources to support this.\nDiscussion points and short inputs from SLAR staff around supporting Approval and Review activity\, BB Ultra and Learning Systems\, Assessment Regulations and Student Voice.\nLooking at processes to support the Partnership experience such as registration/enrolment processes.\n\nTheme 3 \n\nDelivering excellence as a Link Tutor and the importance of this.\nCross School support and guidance via The Link Tutor Network\, Link Tutor quarterly meetings to discuss good practice and share ideas/common threads/resolving issues.\nBuilding a community of practice amongst Link Tutors @ TU.\nSchools to look at developing case studies to support good examples of QEV’s\, shared working in research activity\, effective communication\, cross development of courses.\n\nTo book your place please click here. 
URL:https://blogs.tees.ac.uk/lteonline/event/the-tu-link-tutor-journey-11/
LOCATION:MS Teams
CATEGORIES:Booking Information
ATTACH;FMTTYPE=image/png:https://blogs.tees.ac.uk/lteonline/files/2021/02/LTESLAR-social-noresize.png
END:VEVENT
END:VCALENDAR